BEGIN:VCALENDAR
VERSION:2.0
PRODID:-//BV Huizen &#039;96 - ECPv6.10.1.1//NONSGML v1.0//EN
CALSCALE:GREGORIAN
METHOD:PUBLISH
X-WR-CALNAME:BV Huizen &#039;96
X-ORIGINAL-URL:https://www.bvhuizen96.nl
X-WR-CALDESC:Evenementen voor BV Huizen &#039;96
REFRESH-INTERVAL;VALUE=DURATION:PT1H
X-Robots-Tag:noindex
X-PUBLISHED-TTL:PT1H
BEGIN:VTIMEZONE
TZID:UTC
BEGIN:STANDARD
TZOFFSETFROM:+0000
TZOFFSETTO:+0000
TZNAME:UTC
DTSTART:20240101T000000
END:STANDARD
END:VTIMEZONE
BEGIN:VEVENT
DTSTART;TZID=UTC:20241006T100000
DTEND;TZID=UTC:20241006T140000
DTSTAMP:20260425T110238
CREATED:20240909T085655Z
LAST-MODIFIED:20240912T134835Z
UID:50-1728208800-1728223200@www.bvhuizen96.nl
SUMMARY:Competitie thuis
DESCRIPTION:
URL:https://www.bvhuizen96.nl/event/competitie-thuis-3/
CATEGORIES:Competitie thuis
END:VEVENT
END:VCALENDAR