BEGIN:VCALENDAR
VERSION:2.0
PRODID:-//BV Huizen &#039;96 - ECPv6.10.1.1//NONSGML v1.0//EN
CALSCALE:GREGORIAN
METHOD:PUBLISH
X-ORIGINAL-URL:https://www.bvhuizen96.nl
X-WR-CALDESC:Evenementen voor BV Huizen &#039;96
REFRESH-INTERVAL;VALUE=DURATION:PT1H
X-Robots-Tag:noindex
X-PUBLISHED-TTL:PT1H
BEGIN:VTIMEZONE
TZID:UTC
BEGIN:STANDARD
TZOFFSETFROM:+0000
TZOFFSETTO:+0000
TZNAME:UTC
DTSTART:20250101T000000
END:STANDARD
END:VTIMEZONE
BEGIN:VEVENT
DTSTART;TZID=UTC:20250119T110000
DTEND;TZID=UTC:20250119T140000
DTSTAMP:20260425T125122
CREATED:20240909T090445Z
LAST-MODIFIED:20240912T134904Z
UID:64-1737284400-1737295200@www.bvhuizen96.nl
SUMMARY:Competitie thuis
DESCRIPTION:
URL:https://www.bvhuizen96.nl/event/competitie-thuis-6/
CATEGORIES:Competitie thuis
END:VEVENT
BEGIN:VEVENT
DTSTART;TZID=UTC:20250209T110000
DTEND;TZID=UTC:20250209T140000
DTSTAMP:20260425T125122
CREATED:20240909T090556Z
LAST-MODIFIED:20240912T134909Z
UID:68-1739098800-1739109600@www.bvhuizen96.nl
SUMMARY:Competitie thuis
DESCRIPTION:
URL:https://www.bvhuizen96.nl/event/competitie-thuis-7/
CATEGORIES:Competitie thuis
END:VEVENT
END:VCALENDAR