BEGIN:VCALENDAR
VERSION:2.0
PRODID:-//BV Huizen &#039;96 - ECPv6.10.1.1//NONSGML v1.0//EN
CALSCALE:GREGORIAN
METHOD:PUBLISH
X-WR-CALNAME:BV Huizen &#039;96
X-ORIGINAL-URL:https://www.bvhuizen96.nl
X-WR-CALDESC:Evenementen voor BV Huizen &#039;96
REFRESH-INTERVAL;VALUE=DURATION:PT1H
X-Robots-Tag:noindex
X-PUBLISHED-TTL:PT1H
BEGIN:VTIMEZONE
TZID:UTC
BEGIN:STANDARD
TZOFFSETFROM:+0000
TZOFFSETTO:+0000
TZNAME:UTC
DTSTART:20250101T000000
END:STANDARD
END:VTIMEZONE
BEGIN:VEVENT
DTSTART;TZID=UTC:20250131T100000
DTEND;TZID=UTC:20250202T170000
DTSTAMP:20260423T120036
CREATED:20241226T193232Z
LAST-MODIFIED:20241226T193449Z
UID:359-1738317600-1738515600@www.bvhuizen96.nl
SUMMARY:NK Badminton
DESCRIPTION:
URL:https://www.bvhuizen96.nl/event/nk-badminton/
LOCATION:Topsportcentrum Almere\, Pierre de Coubertinplein 4\, Almere\, 1362LB
CATEGORIES:(inter)nationale evenementen
END:VEVENT
END:VCALENDAR