BEGIN:VCALENDAR
VERSION:2.0
PRODID:-//BV Huizen &#039;96 - ECPv6.10.1.1//NONSGML v1.0//EN
CALSCALE:GREGORIAN
METHOD:PUBLISH
X-ORIGINAL-URL:https://www.bvhuizen96.nl
X-WR-CALDESC:Evenementen voor BV Huizen &#039;96
REFRESH-INTERVAL;VALUE=DURATION:PT1H
X-Robots-Tag:noindex
X-PUBLISHED-TTL:PT1H
BEGIN:VTIMEZONE
TZID:UTC
BEGIN:STANDARD
TZOFFSETFROM:+0000
TZOFFSETTO:+0000
TZNAME:UTC
DTSTART:20250101T000000
END:STANDARD
END:VTIMEZONE
BEGIN:VEVENT
DTSTART;TZID=UTC:20250102T190000
DTEND;TZID=UTC:20250102T200000
DTSTAMP:20260424T133057
CREATED:20241223T130411Z
LAST-MODIFIED:20241223T130411Z
UID:312-1735844400-1735848000@www.bvhuizen96.nl
SUMMARY:Speelmoment jeugd
DESCRIPTION:
URL:https://www.bvhuizen96.nl/event/speelmoment-jeugd-2/
CATEGORIES:Speelmoment Jeugd
END:VEVENT
BEGIN:VEVENT
DTSTART;TZID=UTC:20250107T190000
DTEND;TZID=UTC:20250107T200000
DTSTAMP:20260424T133057
CREATED:20241223T130411Z
LAST-MODIFIED:20241223T130411Z
UID:313-1736276400-1736280000@www.bvhuizen96.nl
SUMMARY:Speelmoment jeugd
DESCRIPTION:
URL:https://www.bvhuizen96.nl/event/speelmoment-jeugd-3/
CATEGORIES:Speelmoment Jeugd
END:VEVENT
BEGIN:VEVENT
DTSTART;TZID=UTC:20250109T190000
DTEND;TZID=UTC:20250109T200000
DTSTAMP:20260424T133057
CREATED:20241223T130411Z
LAST-MODIFIED:20241223T130411Z
UID:314-1736449200-1736452800@www.bvhuizen96.nl
SUMMARY:Speelmoment jeugd
DESCRIPTION:
URL:https://www.bvhuizen96.nl/event/speelmoment-jeugd-4/
CATEGORIES:Speelmoment Jeugd
END:VEVENT
BEGIN:VEVENT
DTSTART;TZID=UTC:20250114T190000
DTEND;TZID=UTC:20250114T200000
DTSTAMP:20260424T133057
CREATED:20241223T130411Z
LAST-MODIFIED:20241223T130411Z
UID:315-1736881200-1736884800@www.bvhuizen96.nl
SUMMARY:Speelmoment jeugd
DESCRIPTION:
URL:https://www.bvhuizen96.nl/event/speelmoment-jeugd-5/
CATEGORIES:Speelmoment Jeugd
END:VEVENT
BEGIN:VEVENT
DTSTART;TZID=UTC:20250116T190000
DTEND;TZID=UTC:20250116T200000
DTSTAMP:20260424T133057
CREATED:20241223T130411Z
LAST-MODIFIED:20241223T130411Z
UID:316-1737054000-1737057600@www.bvhuizen96.nl
SUMMARY:Speelmoment jeugd
DESCRIPTION:
URL:https://www.bvhuizen96.nl/event/speelmoment-jeugd-6/
CATEGORIES:Speelmoment Jeugd
END:VEVENT
BEGIN:VEVENT
DTSTART;TZID=UTC:20250121T190000
DTEND;TZID=UTC:20250121T200000
DTSTAMP:20260424T133057
CREATED:20241223T130413Z
LAST-MODIFIED:20241223T130413Z
UID:317-1737486000-1737489600@www.bvhuizen96.nl
SUMMARY:Speelmoment jeugd
DESCRIPTION:
URL:https://www.bvhuizen96.nl/event/speelmoment-jeugd-7/
CATEGORIES:Speelmoment Jeugd
END:VEVENT
BEGIN:VEVENT
DTSTART;TZID=UTC:20250123T190000
DTEND;TZID=UTC:20250123T200000
DTSTAMP:20260424T133057
CREATED:20241223T130413Z
LAST-MODIFIED:20241223T130413Z
UID:318-1737658800-1737662400@www.bvhuizen96.nl
SUMMARY:Speelmoment jeugd
DESCRIPTION:
URL:https://www.bvhuizen96.nl/event/speelmoment-jeugd-8/
CATEGORIES:Speelmoment Jeugd
END:VEVENT
BEGIN:VEVENT
DTSTART;TZID=UTC:20250128T190000
DTEND;TZID=UTC:20250128T200000
DTSTAMP:20260424T133057
CREATED:20241223T130413Z
LAST-MODIFIED:20241223T130413Z
UID:319-1738090800-1738094400@www.bvhuizen96.nl
SUMMARY:Speelmoment jeugd
DESCRIPTION:
URL:https://www.bvhuizen96.nl/event/speelmoment-jeugd-9/
CATEGORIES:Speelmoment Jeugd
END:VEVENT
BEGIN:VEVENT
DTSTART;TZID=UTC:20250130T190000
DTEND;TZID=UTC:20250130T200000
DTSTAMP:20260424T133057
CREATED:20241223T130413Z
LAST-MODIFIED:20241223T130413Z
UID:320-1738263600-1738267200@www.bvhuizen96.nl
SUMMARY:Speelmoment jeugd
DESCRIPTION:
URL:https://www.bvhuizen96.nl/event/speelmoment-jeugd-10/
CATEGORIES:Speelmoment Jeugd
END:VEVENT
END:VCALENDAR