BEGIN:VCALENDAR
VERSION:2.0
PRODID:-//BV Huizen &#039;96 - ECPv6.10.1.1//NONSGML v1.0//EN
CALSCALE:GREGORIAN
METHOD:PUBLISH
X-ORIGINAL-URL:https://www.bvhuizen96.nl
X-WR-CALDESC:Evenementen voor BV Huizen &#039;96
REFRESH-INTERVAL;VALUE=DURATION:PT1H
X-Robots-Tag:noindex
X-PUBLISHED-TTL:PT1H
BEGIN:VTIMEZONE
TZID:UTC
BEGIN:STANDARD
TZOFFSETFROM:+0000
TZOFFSETTO:+0000
TZNAME:UTC
DTSTART:20250101T000000
END:STANDARD
END:VTIMEZONE
BEGIN:VEVENT
DTSTART;TZID=UTC:20250403T190000
DTEND;TZID=UTC:20250403T200000
DTSTAMP:20260425T153852
CREATED:20241223T130458Z
LAST-MODIFIED:20241223T130458Z
UID:336-1743706800-1743710400@www.bvhuizen96.nl
SUMMARY:Speelmoment jeugd
DESCRIPTION:
URL:https://www.bvhuizen96.nl/event/speelmoment-jeugd-26/
CATEGORIES:Speelmoment Jeugd
END:VEVENT
BEGIN:VEVENT
DTSTART;TZID=UTC:20250408T190000
DTEND;TZID=UTC:20250408T200000
DTSTAMP:20260425T153852
CREATED:20241223T130513Z
LAST-MODIFIED:20241223T130513Z
UID:337-1744138800-1744142400@www.bvhuizen96.nl
SUMMARY:Speelmoment jeugd
DESCRIPTION:
URL:https://www.bvhuizen96.nl/event/speelmoment-jeugd-27/
CATEGORIES:Speelmoment Jeugd
END:VEVENT
BEGIN:VEVENT
DTSTART;TZID=UTC:20250410T190000
DTEND;TZID=UTC:20250410T200000
DTSTAMP:20260425T153852
CREATED:20241223T130513Z
LAST-MODIFIED:20241223T130513Z
UID:338-1744311600-1744315200@www.bvhuizen96.nl
SUMMARY:Speelmoment jeugd
DESCRIPTION:
URL:https://www.bvhuizen96.nl/event/speelmoment-jeugd-28/
CATEGORIES:Speelmoment Jeugd
END:VEVENT
BEGIN:VEVENT
DTSTART;TZID=UTC:20250415T190000
DTEND;TZID=UTC:20250415T200000
DTSTAMP:20260425T153852
CREATED:20241223T130513Z
LAST-MODIFIED:20241223T130513Z
UID:339-1744743600-1744747200@www.bvhuizen96.nl
SUMMARY:Speelmoment jeugd
DESCRIPTION:
URL:https://www.bvhuizen96.nl/event/speelmoment-jeugd-29/
CATEGORIES:Speelmoment Jeugd
END:VEVENT
BEGIN:VEVENT
DTSTART;TZID=UTC:20250417T190000
DTEND;TZID=UTC:20250417T200000
DTSTAMP:20260425T153852
CREATED:20241223T130513Z
LAST-MODIFIED:20241223T130513Z
UID:340-1744916400-1744920000@www.bvhuizen96.nl
SUMMARY:Speelmoment jeugd
DESCRIPTION:
URL:https://www.bvhuizen96.nl/event/speelmoment-jeugd-30/
CATEGORIES:Speelmoment Jeugd
END:VEVENT
BEGIN:VEVENT
DTSTART;TZID=UTC:20250422T190000
DTEND;TZID=UTC:20250422T200000
DTSTAMP:20260425T153852
CREATED:20241223T130513Z
LAST-MODIFIED:20241223T130513Z
UID:341-1745348400-1745352000@www.bvhuizen96.nl
SUMMARY:Speelmoment jeugd
DESCRIPTION:
URL:https://www.bvhuizen96.nl/event/speelmoment-jeugd-31/
CATEGORIES:Speelmoment Jeugd
END:VEVENT
BEGIN:VEVENT
DTSTART;TZID=UTC:20250424T190000
DTEND;TZID=UTC:20250424T200000
DTSTAMP:20260425T153852
CREATED:20241223T130528Z
LAST-MODIFIED:20241223T130528Z
UID:342-1745521200-1745524800@www.bvhuizen96.nl
SUMMARY:Speelmoment jeugd
DESCRIPTION:
URL:https://www.bvhuizen96.nl/event/speelmoment-jeugd-32/
CATEGORIES:Speelmoment Jeugd
END:VEVENT
BEGIN:VEVENT
DTSTART;TZID=UTC:20250506T190000
DTEND;TZID=UTC:20250506T200000
DTSTAMP:20260425T153852
CREATED:20241223T130528Z
LAST-MODIFIED:20241223T130528Z
UID:343-1746558000-1746561600@www.bvhuizen96.nl
SUMMARY:Speelmoment jeugd
DESCRIPTION:
URL:https://www.bvhuizen96.nl/event/speelmoment-jeugd-33/
CATEGORIES:Speelmoment Jeugd
END:VEVENT
BEGIN:VEVENT
DTSTART;TZID=UTC:20250508T190000
DTEND;TZID=UTC:20250508T200000
DTSTAMP:20260425T153852
CREATED:20241223T130528Z
LAST-MODIFIED:20241223T130528Z
UID:344-1746730800-1746734400@www.bvhuizen96.nl
SUMMARY:Speelmoment jeugd
DESCRIPTION:
URL:https://www.bvhuizen96.nl/event/speelmoment-jeugd-34/
CATEGORIES:Speelmoment Jeugd
END:VEVENT
BEGIN:VEVENT
DTSTART;TZID=UTC:20250603T190000
DTEND;TZID=UTC:20250603T200000
DTSTAMP:20260425T153852
CREATED:20241223T130528Z
LAST-MODIFIED:20241223T130528Z
UID:345-1748977200-1748980800@www.bvhuizen96.nl
SUMMARY:Speelmoment jeugd
DESCRIPTION:
URL:https://www.bvhuizen96.nl/event/speelmoment-jeugd-35/
CATEGORIES:Speelmoment Jeugd
END:VEVENT
BEGIN:VEVENT
DTSTART;TZID=UTC:20250610T190000
DTEND;TZID=UTC:20250610T200000
DTSTAMP:20260425T153852
CREATED:20241223T130528Z
LAST-MODIFIED:20241223T130528Z
UID:346-1749582000-1749585600@www.bvhuizen96.nl
SUMMARY:Speelmoment jeugd
DESCRIPTION:
URL:https://www.bvhuizen96.nl/event/speelmoment-jeugd-36/
CATEGORIES:Speelmoment Jeugd
END:VEVENT
BEGIN:VEVENT
DTSTART;TZID=UTC:20250617T190000
DTEND;TZID=UTC:20250617T200000
DTSTAMP:20260425T153852
CREATED:20241223T130543Z
LAST-MODIFIED:20241223T130543Z
UID:347-1750186800-1750190400@www.bvhuizen96.nl
SUMMARY:Speelmoment jeugd
DESCRIPTION:
URL:https://www.bvhuizen96.nl/event/speelmoment-jeugd-37/
CATEGORIES:Speelmoment Jeugd
END:VEVENT
BEGIN:VEVENT
DTSTART;TZID=UTC:20250624T190000
DTEND;TZID=UTC:20250624T200000
DTSTAMP:20260425T153852
CREATED:20241223T130543Z
LAST-MODIFIED:20241223T130543Z
UID:348-1750791600-1750795200@www.bvhuizen96.nl
SUMMARY:Speelmoment jeugd
DESCRIPTION:
URL:https://www.bvhuizen96.nl/event/speelmoment-jeugd-38/
CATEGORIES:Speelmoment Jeugd
END:VEVENT
END:VCALENDAR