BEGIN:VCALENDAR
VERSION:2.0
PRODID:-//BV Huizen &#039;96 - ECPv6.10.1.1//NONSGML v1.0//EN
CALSCALE:GREGORIAN
METHOD:PUBLISH
X-ORIGINAL-URL:https://www.bvhuizen96.nl
X-WR-CALDESC:Evenementen voor BV Huizen &#039;96
REFRESH-INTERVAL;VALUE=DURATION:PT1H
X-Robots-Tag:noindex
X-PUBLISHED-TTL:PT1H
BEGIN:VTIMEZONE
TZID:UTC
BEGIN:STANDARD
TZOFFSETFROM:+0000
TZOFFSETTO:+0000
TZNAME:UTC
DTSTART:20250101T000000
END:STANDARD
END:VTIMEZONE
BEGIN:VEVENT
DTSTART;TZID=UTC:20250501T200000
DTEND;TZID=UTC:20250501T220000
DTSTAMP:20260420T225558
CREATED:20241223T125518Z
LAST-MODIFIED:20241223T125518Z
UID:297-1746129600-1746136800@www.bvhuizen96.nl
SUMMARY:Speelmoment senioren
DESCRIPTION:
URL:https://www.bvhuizen96.nl/event/speelmoment-senioren-36/
CATEGORIES:Speelmoment Senioren
END:VEVENT
BEGIN:VEVENT
DTSTART;TZID=UTC:20250506T200000
DTEND;TZID=UTC:20250506T220000
DTSTAMP:20260420T225558
CREATED:20241223T125518Z
LAST-MODIFIED:20241223T125518Z
UID:298-1746561600-1746568800@www.bvhuizen96.nl
SUMMARY:Speelmoment senioren
DESCRIPTION:
URL:https://www.bvhuizen96.nl/event/speelmoment-senioren-37/
CATEGORIES:Speelmoment Senioren
END:VEVENT
BEGIN:VEVENT
DTSTART;TZID=UTC:20250508T200000
DTEND;TZID=UTC:20250508T220000
DTSTAMP:20260420T225558
CREATED:20241223T125518Z
LAST-MODIFIED:20241223T125518Z
UID:299-1746734400-1746741600@www.bvhuizen96.nl
SUMMARY:Speelmoment senioren
DESCRIPTION:
URL:https://www.bvhuizen96.nl/event/speelmoment-senioren-38/
CATEGORIES:Speelmoment Senioren
END:VEVENT
END:VCALENDAR