BEGIN:VCALENDAR
VERSION:2.0
PRODID:-//BV Huizen &#039;96 - ECPv6.10.1.1//NONSGML v1.0//EN
CALSCALE:GREGORIAN
METHOD:PUBLISH
X-WR-CALNAME:BV Huizen &#039;96
X-ORIGINAL-URL:https://www.bvhuizen96.nl
X-WR-CALDESC:Evenementen voor BV Huizen &#039;96
REFRESH-INTERVAL;VALUE=DURATION:PT1H
X-Robots-Tag:noindex
X-PUBLISHED-TTL:PT1H
BEGIN:VTIMEZONE
TZID:UTC
BEGIN:STANDARD
TZOFFSETFROM:+0000
TZOFFSETTO:+0000
TZNAME:UTC
DTSTART:20250101T000000
END:STANDARD
END:VTIMEZONE
BEGIN:VEVENT
DTSTART;TZID=UTC:20250102T200000
DTEND;TZID=UTC:20250102T220000
DTSTAMP:20260421T074022
CREATED:20241223T124030Z
LAST-MODIFIED:20241223T124030Z
UID:255-1735848000-1735855200@www.bvhuizen96.nl
SUMMARY:Speelmoment senioren
DESCRIPTION:
URL:https://www.bvhuizen96.nl/event/speelmoment-senioren-2/
CATEGORIES:Speelmoment Senioren
END:VEVENT
BEGIN:VEVENT
DTSTART;TZID=UTC:20250107T200000
DTEND;TZID=UTC:20250107T220000
DTSTAMP:20260421T074022
CREATED:20241223T124158Z
LAST-MODIFIED:20241223T124158Z
UID:257-1736280000-1736287200@www.bvhuizen96.nl
SUMMARY:Speelmoment senioren
DESCRIPTION:
URL:https://www.bvhuizen96.nl/event/speelmoment-senioren-3/
CATEGORIES:Speelmoment Senioren
END:VEVENT
BEGIN:VEVENT
DTSTART;TZID=UTC:20250109T200000
DTEND;TZID=UTC:20250109T220000
DTSTAMP:20260421T074022
CREATED:20241223T124328Z
LAST-MODIFIED:20241223T124328Z
UID:259-1736452800-1736460000@www.bvhuizen96.nl
SUMMARY:Speelmoment senioren
DESCRIPTION:
URL:https://www.bvhuizen96.nl/event/speelmoment-senioren-4/
CATEGORIES:Speelmoment Senioren
END:VEVENT
BEGIN:VEVENT
DTSTART;TZID=UTC:20250114T200000
DTEND;TZID=UTC:20250114T220000
DTSTAMP:20260421T074022
CREATED:20241223T124524Z
LAST-MODIFIED:20241223T131047Z
UID:261-1736884800-1736892000@www.bvhuizen96.nl
SUMMARY:Speelmoment senioren
DESCRIPTION:
URL:https://www.bvhuizen96.nl/event/speelmoment-senioren-5/
CATEGORIES:Speelmoment Senioren
END:VEVENT
BEGIN:VEVENT
DTSTART;TZID=UTC:20250116T200000
DTEND;TZID=UTC:20250116T220000
DTSTAMP:20260421T074022
CREATED:20241223T124930Z
LAST-MODIFIED:20241223T124930Z
UID:265-1737057600-1737064800@www.bvhuizen96.nl
SUMMARY:Speelmoment senioren
DESCRIPTION:
URL:https://www.bvhuizen96.nl/event/speelmoment-senioren-6/
CATEGORIES:Speelmoment Senioren
END:VEVENT
BEGIN:VEVENT
DTSTART;TZID=UTC:20250121T200000
DTEND;TZID=UTC:20250121T220000
DTSTAMP:20260421T074022
CREATED:20241223T124930Z
LAST-MODIFIED:20241223T124930Z
UID:266-1737489600-1737496800@www.bvhuizen96.nl
SUMMARY:Speelmoment senioren
DESCRIPTION:
URL:https://www.bvhuizen96.nl/event/speelmoment-senioren-7/
CATEGORIES:Speelmoment Senioren
END:VEVENT
BEGIN:VEVENT
DTSTART;TZID=UTC:20250123T200000
DTEND;TZID=UTC:20250123T220000
DTSTAMP:20260421T074022
CREATED:20241223T124930Z
LAST-MODIFIED:20241223T124930Z
UID:267-1737662400-1737669600@www.bvhuizen96.nl
SUMMARY:Speelmoment senioren
DESCRIPTION:
URL:https://www.bvhuizen96.nl/event/speelmoment-senioren-8/
CATEGORIES:Speelmoment Senioren
END:VEVENT
BEGIN:VEVENT
DTSTART;TZID=UTC:20250128T200000
DTEND;TZID=UTC:20250128T220000
DTSTAMP:20260421T074022
CREATED:20241223T124930Z
LAST-MODIFIED:20241223T124930Z
UID:268-1738094400-1738101600@www.bvhuizen96.nl
SUMMARY:Speelmoment senioren
DESCRIPTION:
URL:https://www.bvhuizen96.nl/event/speelmoment-senioren-9/
CATEGORIES:Speelmoment Senioren
END:VEVENT
BEGIN:VEVENT
DTSTART;TZID=UTC:20250130T200000
DTEND;TZID=UTC:20250130T220000
DTSTAMP:20260421T074022
CREATED:20241223T125239Z
LAST-MODIFIED:20241223T125239Z
UID:271-1738267200-1738274400@www.bvhuizen96.nl
SUMMARY:Speelmoment senioren
DESCRIPTION:
URL:https://www.bvhuizen96.nl/event/speelmoment-senioren-10/
CATEGORIES:Speelmoment Senioren
END:VEVENT
BEGIN:VEVENT
DTSTART;TZID=UTC:20250204T200000
DTEND;TZID=UTC:20250204T220000
DTSTAMP:20260421T074022
CREATED:20241223T125239Z
LAST-MODIFIED:20241223T125239Z
UID:272-1738699200-1738706400@www.bvhuizen96.nl
SUMMARY:Speelmoment senioren
DESCRIPTION:
URL:https://www.bvhuizen96.nl/event/speelmoment-senioren-11/
CATEGORIES:Speelmoment Senioren
END:VEVENT
BEGIN:VEVENT
DTSTART;TZID=UTC:20250206T200000
DTEND;TZID=UTC:20250206T220000
DTSTAMP:20260421T074022
CREATED:20241223T125239Z
LAST-MODIFIED:20241223T125239Z
UID:273-1738872000-1738879200@www.bvhuizen96.nl
SUMMARY:Speelmoment senioren
DESCRIPTION:
URL:https://www.bvhuizen96.nl/event/speelmoment-senioren-12/
CATEGORIES:Speelmoment Senioren
END:VEVENT
BEGIN:VEVENT
DTSTART;TZID=UTC:20250211T200000
DTEND;TZID=UTC:20250211T220000
DTSTAMP:20260421T074022
CREATED:20241223T125239Z
LAST-MODIFIED:20241223T125239Z
UID:274-1739304000-1739311200@www.bvhuizen96.nl
SUMMARY:Speelmoment senioren
DESCRIPTION:
URL:https://www.bvhuizen96.nl/event/speelmoment-senioren-13/
CATEGORIES:Speelmoment Senioren
END:VEVENT
BEGIN:VEVENT
DTSTART;TZID=UTC:20250213T200000
DTEND;TZID=UTC:20250213T220000
DTSTAMP:20260421T074022
CREATED:20241223T125239Z
LAST-MODIFIED:20241223T125239Z
UID:275-1739476800-1739484000@www.bvhuizen96.nl
SUMMARY:Speelmoment senioren
DESCRIPTION:
URL:https://www.bvhuizen96.nl/event/speelmoment-senioren-14/
CATEGORIES:Speelmoment Senioren
END:VEVENT
BEGIN:VEVENT
DTSTART;TZID=UTC:20250218T200000
DTEND;TZID=UTC:20250218T220000
DTSTAMP:20260421T074022
CREATED:20241223T125240Z
LAST-MODIFIED:20241223T125240Z
UID:276-1739908800-1739916000@www.bvhuizen96.nl
SUMMARY:Speelmoment senioren
DESCRIPTION:
URL:https://www.bvhuizen96.nl/event/speelmoment-senioren-15/
CATEGORIES:Speelmoment Senioren
END:VEVENT
BEGIN:VEVENT
DTSTART;TZID=UTC:20250220T200000
DTEND;TZID=UTC:20250220T220000
DTSTAMP:20260421T074022
CREATED:20241223T125240Z
LAST-MODIFIED:20241223T125240Z
UID:277-1740081600-1740088800@www.bvhuizen96.nl
SUMMARY:Speelmoment senioren
DESCRIPTION:
URL:https://www.bvhuizen96.nl/event/speelmoment-senioren-16/
CATEGORIES:Speelmoment Senioren
END:VEVENT
BEGIN:VEVENT
DTSTART;TZID=UTC:20250225T200000
DTEND;TZID=UTC:20250225T220000
DTSTAMP:20260421T074022
CREATED:20241223T125240Z
LAST-MODIFIED:20241223T125240Z
UID:278-1740513600-1740520800@www.bvhuizen96.nl
SUMMARY:Speelmoment senioren
DESCRIPTION:
URL:https://www.bvhuizen96.nl/event/speelmoment-senioren-17/
CATEGORIES:Speelmoment Senioren
END:VEVENT
BEGIN:VEVENT
DTSTART;TZID=UTC:20250227T200000
DTEND;TZID=UTC:20250227T220000
DTSTAMP:20260421T074022
CREATED:20241223T125240Z
LAST-MODIFIED:20241223T125240Z
UID:279-1740686400-1740693600@www.bvhuizen96.nl
SUMMARY:Speelmoment senioren
DESCRIPTION:
URL:https://www.bvhuizen96.nl/event/speelmoment-senioren-18/
CATEGORIES:Speelmoment Senioren
END:VEVENT
BEGIN:VEVENT
DTSTART;TZID=UTC:20250304T200000
DTEND;TZID=UTC:20250304T220000
DTSTAMP:20260421T074022
CREATED:20241223T125241Z
LAST-MODIFIED:20241223T125241Z
UID:280-1741118400-1741125600@www.bvhuizen96.nl
SUMMARY:Speelmoment senioren
DESCRIPTION:
URL:https://www.bvhuizen96.nl/event/speelmoment-senioren-19/
CATEGORIES:Speelmoment Senioren
END:VEVENT
BEGIN:VEVENT
DTSTART;TZID=UTC:20250306T200000
DTEND;TZID=UTC:20250306T220000
DTSTAMP:20260421T074022
CREATED:20241223T125256Z
LAST-MODIFIED:20241223T125256Z
UID:281-1741291200-1741298400@www.bvhuizen96.nl
SUMMARY:Speelmoment senioren
DESCRIPTION:
URL:https://www.bvhuizen96.nl/event/speelmoment-senioren-20/
CATEGORIES:Speelmoment Senioren
END:VEVENT
BEGIN:VEVENT
DTSTART;TZID=UTC:20250311T200000
DTEND;TZID=UTC:20250311T220000
DTSTAMP:20260421T074022
CREATED:20241223T125256Z
LAST-MODIFIED:20241223T125256Z
UID:282-1741723200-1741730400@www.bvhuizen96.nl
SUMMARY:Speelmoment senioren
DESCRIPTION:
URL:https://www.bvhuizen96.nl/event/speelmoment-senioren-21/
CATEGORIES:Speelmoment Senioren
END:VEVENT
BEGIN:VEVENT
DTSTART;TZID=UTC:20250313T200000
DTEND;TZID=UTC:20250313T220000
DTSTAMP:20260421T074022
CREATED:20241223T125256Z
LAST-MODIFIED:20241223T125256Z
UID:283-1741896000-1741903200@www.bvhuizen96.nl
SUMMARY:Speelmoment senioren
DESCRIPTION:
URL:https://www.bvhuizen96.nl/event/speelmoment-senioren-22/
CATEGORIES:Speelmoment Senioren
END:VEVENT
BEGIN:VEVENT
DTSTART;TZID=UTC:20250318T200000
DTEND;TZID=UTC:20250318T220000
DTSTAMP:20260421T074022
CREATED:20241223T125256Z
LAST-MODIFIED:20241223T125256Z
UID:284-1742328000-1742335200@www.bvhuizen96.nl
SUMMARY:Speelmoment senioren
DESCRIPTION:
URL:https://www.bvhuizen96.nl/event/speelmoment-senioren-23/
CATEGORIES:Speelmoment Senioren
END:VEVENT
BEGIN:VEVENT
DTSTART;TZID=UTC:20250320T200000
DTEND;TZID=UTC:20250320T220000
DTSTAMP:20260421T074022
CREATED:20241223T125256Z
LAST-MODIFIED:20241223T125256Z
UID:285-1742500800-1742508000@www.bvhuizen96.nl
SUMMARY:Speelmoment senioren
DESCRIPTION:
URL:https://www.bvhuizen96.nl/event/speelmoment-senioren-24/
CATEGORIES:Speelmoment Senioren
END:VEVENT
BEGIN:VEVENT
DTSTART;TZID=UTC:20250325T200000
DTEND;TZID=UTC:20250325T220000
DTSTAMP:20260421T074022
CREATED:20241223T125352Z
LAST-MODIFIED:20241223T125352Z
UID:286-1742932800-1742940000@www.bvhuizen96.nl
SUMMARY:Speelmoment senioren
DESCRIPTION:
URL:https://www.bvhuizen96.nl/event/speelmoment-senioren-25/
CATEGORIES:Speelmoment Senioren
END:VEVENT
BEGIN:VEVENT
DTSTART;TZID=UTC:20250327T200000
DTEND;TZID=UTC:20250327T220000
DTSTAMP:20260421T074022
CREATED:20241223T125352Z
LAST-MODIFIED:20241223T125352Z
UID:287-1743105600-1743112800@www.bvhuizen96.nl
SUMMARY:Speelmoment senioren
DESCRIPTION:
URL:https://www.bvhuizen96.nl/event/speelmoment-senioren-26/
CATEGORIES:Speelmoment Senioren
END:VEVENT
BEGIN:VEVENT
DTSTART;TZID=UTC:20250401T200000
DTEND;TZID=UTC:20250401T220000
DTSTAMP:20260421T074022
CREATED:20241223T125352Z
LAST-MODIFIED:20241223T125352Z
UID:288-1743537600-1743544800@www.bvhuizen96.nl
SUMMARY:Speelmoment senioren
DESCRIPTION:
URL:https://www.bvhuizen96.nl/event/speelmoment-senioren-27/
CATEGORIES:Speelmoment Senioren
END:VEVENT
BEGIN:VEVENT
DTSTART;TZID=UTC:20250403T200000
DTEND;TZID=UTC:20250403T220000
DTSTAMP:20260421T074022
CREATED:20241223T125352Z
LAST-MODIFIED:20241223T125352Z
UID:289-1743710400-1743717600@www.bvhuizen96.nl
SUMMARY:Speelmoment senioren
DESCRIPTION:
URL:https://www.bvhuizen96.nl/event/speelmoment-senioren-28/
CATEGORIES:Speelmoment Senioren
END:VEVENT
BEGIN:VEVENT
DTSTART;TZID=UTC:20250408T200000
DTEND;TZID=UTC:20250408T220000
DTSTAMP:20260421T074022
CREATED:20241223T125352Z
LAST-MODIFIED:20241223T125352Z
UID:290-1744142400-1744149600@www.bvhuizen96.nl
SUMMARY:Speelmoment senioren
DESCRIPTION:
URL:https://www.bvhuizen96.nl/event/speelmoment-senioren-29/
CATEGORIES:Speelmoment Senioren
END:VEVENT
BEGIN:VEVENT
DTSTART;TZID=UTC:20250410T200000
DTEND;TZID=UTC:20250410T220000
DTSTAMP:20260421T074022
CREATED:20241223T125407Z
LAST-MODIFIED:20241223T125407Z
UID:291-1744315200-1744322400@www.bvhuizen96.nl
SUMMARY:Speelmoment senioren
DESCRIPTION:
URL:https://www.bvhuizen96.nl/event/speelmoment-senioren-30/
CATEGORIES:Speelmoment Senioren
END:VEVENT
BEGIN:VEVENT
DTSTART;TZID=UTC:20250415T200000
DTEND;TZID=UTC:20250415T220000
DTSTAMP:20260421T074022
CREATED:20241223T125407Z
LAST-MODIFIED:20241223T125407Z
UID:292-1744747200-1744754400@www.bvhuizen96.nl
SUMMARY:Speelmoment senioren
DESCRIPTION:
URL:https://www.bvhuizen96.nl/event/speelmoment-senioren-31/
CATEGORIES:Speelmoment Senioren
END:VEVENT
END:VCALENDAR