BEGIN:VCALENDAR
VERSION:2.0
PRODID:-//BV Huizen &#039;96 - ECPv6.10.1.1//NONSGML v1.0//EN
CALSCALE:GREGORIAN
METHOD:PUBLISH
X-ORIGINAL-URL:https://www.bvhuizen96.nl
X-WR-CALDESC:Evenementen voor BV Huizen &#039;96
REFRESH-INTERVAL;VALUE=DURATION:PT1H
X-Robots-Tag:noindex
X-PUBLISHED-TTL:PT1H
BEGIN:VTIMEZONE
TZID:UTC
BEGIN:STANDARD
TZOFFSETFROM:+0000
TZOFFSETTO:+0000
TZNAME:UTC
DTSTART:20250101T000000
END:STANDARD
END:VTIMEZONE
BEGIN:VEVENT
DTSTART;TZID=UTC:20250401T200000
DTEND;TZID=UTC:20250401T220000
DTSTAMP:20260421T061613
CREATED:20241223T125352Z
LAST-MODIFIED:20241223T125352Z
UID:288-1743537600-1743544800@www.bvhuizen96.nl
SUMMARY:Speelmoment senioren
DESCRIPTION:
URL:https://www.bvhuizen96.nl/event/speelmoment-senioren-27/
CATEGORIES:Speelmoment Senioren
END:VEVENT
BEGIN:VEVENT
DTSTART;TZID=UTC:20250403T200000
DTEND;TZID=UTC:20250403T220000
DTSTAMP:20260421T061613
CREATED:20241223T125352Z
LAST-MODIFIED:20241223T125352Z
UID:289-1743710400-1743717600@www.bvhuizen96.nl
SUMMARY:Speelmoment senioren
DESCRIPTION:
URL:https://www.bvhuizen96.nl/event/speelmoment-senioren-28/
CATEGORIES:Speelmoment Senioren
END:VEVENT
BEGIN:VEVENT
DTSTART;TZID=UTC:20250408T200000
DTEND;TZID=UTC:20250408T220000
DTSTAMP:20260421T061613
CREATED:20241223T125352Z
LAST-MODIFIED:20241223T125352Z
UID:290-1744142400-1744149600@www.bvhuizen96.nl
SUMMARY:Speelmoment senioren
DESCRIPTION:
URL:https://www.bvhuizen96.nl/event/speelmoment-senioren-29/
CATEGORIES:Speelmoment Senioren
END:VEVENT
BEGIN:VEVENT
DTSTART;TZID=UTC:20250410T200000
DTEND;TZID=UTC:20250410T220000
DTSTAMP:20260421T061613
CREATED:20241223T125407Z
LAST-MODIFIED:20241223T125407Z
UID:291-1744315200-1744322400@www.bvhuizen96.nl
SUMMARY:Speelmoment senioren
DESCRIPTION:
URL:https://www.bvhuizen96.nl/event/speelmoment-senioren-30/
CATEGORIES:Speelmoment Senioren
END:VEVENT
BEGIN:VEVENT
DTSTART;TZID=UTC:20250415T200000
DTEND;TZID=UTC:20250415T220000
DTSTAMP:20260421T061613
CREATED:20241223T125407Z
LAST-MODIFIED:20241223T125407Z
UID:292-1744747200-1744754400@www.bvhuizen96.nl
SUMMARY:Speelmoment senioren
DESCRIPTION:
URL:https://www.bvhuizen96.nl/event/speelmoment-senioren-31/
CATEGORIES:Speelmoment Senioren
END:VEVENT
BEGIN:VEVENT
DTSTART;TZID=UTC:20250417T200000
DTEND;TZID=UTC:20250417T220000
DTSTAMP:20260421T061613
CREATED:20241223T125407Z
LAST-MODIFIED:20241223T125407Z
UID:293-1744920000-1744927200@www.bvhuizen96.nl
SUMMARY:Speelmoment senioren
DESCRIPTION:
URL:https://www.bvhuizen96.nl/event/speelmoment-senioren-32/
CATEGORIES:Speelmoment Senioren
END:VEVENT
BEGIN:VEVENT
DTSTART;TZID=UTC:20250422T200000
DTEND;TZID=UTC:20250422T220000
DTSTAMP:20260421T061613
CREATED:20241223T125407Z
LAST-MODIFIED:20241223T125407Z
UID:294-1745352000-1745359200@www.bvhuizen96.nl
SUMMARY:Speelmoment senioren
DESCRIPTION:
URL:https://www.bvhuizen96.nl/event/speelmoment-senioren-33/
CATEGORIES:Speelmoment Senioren
END:VEVENT
BEGIN:VEVENT
DTSTART;TZID=UTC:20250424T200000
DTEND;TZID=UTC:20250424T220000
DTSTAMP:20260421T061613
CREATED:20241223T125407Z
LAST-MODIFIED:20241223T125407Z
UID:295-1745524800-1745532000@www.bvhuizen96.nl
SUMMARY:Speelmoment senioren
DESCRIPTION:
URL:https://www.bvhuizen96.nl/event/speelmoment-senioren-34/
CATEGORIES:Speelmoment Senioren
END:VEVENT
BEGIN:VEVENT
DTSTART;TZID=UTC:20250429T200000
DTEND;TZID=UTC:20250429T220000
DTSTAMP:20260421T061613
CREATED:20241223T125518Z
LAST-MODIFIED:20241223T125518Z
UID:296-1745956800-1745964000@www.bvhuizen96.nl
SUMMARY:Speelmoment senioren
DESCRIPTION:
URL:https://www.bvhuizen96.nl/event/speelmoment-senioren-35/
CATEGORIES:Speelmoment Senioren
END:VEVENT
BEGIN:VEVENT
DTSTART;TZID=UTC:20250501T200000
DTEND;TZID=UTC:20250501T220000
DTSTAMP:20260421T061613
CREATED:20241223T125518Z
LAST-MODIFIED:20241223T125518Z
UID:297-1746129600-1746136800@www.bvhuizen96.nl
SUMMARY:Speelmoment senioren
DESCRIPTION:
URL:https://www.bvhuizen96.nl/event/speelmoment-senioren-36/
CATEGORIES:Speelmoment Senioren
END:VEVENT
BEGIN:VEVENT
DTSTART;TZID=UTC:20250506T200000
DTEND;TZID=UTC:20250506T220000
DTSTAMP:20260421T061613
CREATED:20241223T125518Z
LAST-MODIFIED:20241223T125518Z
UID:298-1746561600-1746568800@www.bvhuizen96.nl
SUMMARY:Speelmoment senioren
DESCRIPTION:
URL:https://www.bvhuizen96.nl/event/speelmoment-senioren-37/
CATEGORIES:Speelmoment Senioren
END:VEVENT
BEGIN:VEVENT
DTSTART;TZID=UTC:20250508T200000
DTEND;TZID=UTC:20250508T220000
DTSTAMP:20260421T061613
CREATED:20241223T125518Z
LAST-MODIFIED:20241223T125518Z
UID:299-1746734400-1746741600@www.bvhuizen96.nl
SUMMARY:Speelmoment senioren
DESCRIPTION:
URL:https://www.bvhuizen96.nl/event/speelmoment-senioren-38/
CATEGORIES:Speelmoment Senioren
END:VEVENT
BEGIN:VEVENT
DTSTART;TZID=UTC:20250603T200000
DTEND;TZID=UTC:20250603T220000
DTSTAMP:20260421T061613
CREATED:20241223T125518Z
LAST-MODIFIED:20241223T125518Z
UID:300-1748980800-1748988000@www.bvhuizen96.nl
SUMMARY:Speelmoment senioren
DESCRIPTION:
URL:https://www.bvhuizen96.nl/event/speelmoment-senioren-39/
CATEGORIES:Speelmoment Senioren
END:VEVENT
BEGIN:VEVENT
DTSTART;TZID=UTC:20250605T200000
DTEND;TZID=UTC:20250605T220000
DTSTAMP:20260421T061613
CREATED:20241223T125533Z
LAST-MODIFIED:20241223T125533Z
UID:301-1749153600-1749160800@www.bvhuizen96.nl
SUMMARY:Speelmoment senioren
DESCRIPTION:
URL:https://www.bvhuizen96.nl/event/speelmoment-senioren-40/
CATEGORIES:Speelmoment Senioren
END:VEVENT
BEGIN:VEVENT
DTSTART;TZID=UTC:20250610T200000
DTEND;TZID=UTC:20250610T220000
DTSTAMP:20260421T061613
CREATED:20241223T125533Z
LAST-MODIFIED:20241223T125533Z
UID:302-1749585600-1749592800@www.bvhuizen96.nl
SUMMARY:Speelmoment senioren
DESCRIPTION:
URL:https://www.bvhuizen96.nl/event/speelmoment-senioren-41/
CATEGORIES:Speelmoment Senioren
END:VEVENT
BEGIN:VEVENT
DTSTART;TZID=UTC:20250612T200000
DTEND;TZID=UTC:20250612T220000
DTSTAMP:20260421T061613
CREATED:20241223T125533Z
LAST-MODIFIED:20241223T125533Z
UID:303-1749758400-1749765600@www.bvhuizen96.nl
SUMMARY:Speelmoment senioren
DESCRIPTION:
URL:https://www.bvhuizen96.nl/event/speelmoment-senioren-42/
CATEGORIES:Speelmoment Senioren
END:VEVENT
BEGIN:VEVENT
DTSTART;TZID=UTC:20250617T200000
DTEND;TZID=UTC:20250617T220000
DTSTAMP:20260421T061613
CREATED:20241223T125533Z
LAST-MODIFIED:20241223T125533Z
UID:304-1750190400-1750197600@www.bvhuizen96.nl
SUMMARY:Speelmoment senioren
DESCRIPTION:
URL:https://www.bvhuizen96.nl/event/speelmoment-senioren-43/
CATEGORIES:Speelmoment Senioren
END:VEVENT
BEGIN:VEVENT
DTSTART;TZID=UTC:20250619T200000
DTEND;TZID=UTC:20250619T220000
DTSTAMP:20260421T061613
CREATED:20241223T125533Z
LAST-MODIFIED:20241223T125533Z
UID:305-1750363200-1750370400@www.bvhuizen96.nl
SUMMARY:Speelmoment senioren
DESCRIPTION:
URL:https://www.bvhuizen96.nl/event/speelmoment-senioren-44/
CATEGORIES:Speelmoment Senioren
END:VEVENT
BEGIN:VEVENT
DTSTART;TZID=UTC:20250624T200000
DTEND;TZID=UTC:20250624T220000
DTSTAMP:20260421T061613
CREATED:20241223T125548Z
LAST-MODIFIED:20241223T125548Z
UID:306-1750795200-1750802400@www.bvhuizen96.nl
SUMMARY:Speelmoment senioren
DESCRIPTION:
URL:https://www.bvhuizen96.nl/event/speelmoment-senioren-45/
CATEGORIES:Speelmoment Senioren
END:VEVENT
BEGIN:VEVENT
DTSTART;TZID=UTC:20250626T200000
DTEND;TZID=UTC:20250626T220000
DTSTAMP:20260421T061613
CREATED:20241223T125548Z
LAST-MODIFIED:20241223T125548Z
UID:307-1750968000-1750975200@www.bvhuizen96.nl
SUMMARY:Speelmoment senioren
DESCRIPTION:
URL:https://www.bvhuizen96.nl/event/speelmoment-senioren-46/
CATEGORIES:Speelmoment Senioren
END:VEVENT
BEGIN:VEVENT
DTSTART;TZID=UTC:20251223T203000
DTEND;TZID=UTC:20251223T223000
DTSTAMP:20260421T061613
CREATED:20251223T113858Z
LAST-MODIFIED:20251223T113858Z
UID:784-1766521800-1766529000@www.bvhuizen96.nl
SUMMARY:Vrijspelen vanaf >> 20:30
DESCRIPTION:
URL:https://www.bvhuizen96.nl/event/vrijspelen-vanaf-2030/
CATEGORIES:Speelmoment Senioren
END:VEVENT
END:VCALENDAR